BEGIN:VCALENDAR
VERSION:2.0
PRODID:-//Tukios.com/
BEGIN:VEVENT
UID:9d1bff9c-3c03-4bcd-ac4c-37140fc04e54@www.mcgoniglefuneralhomeandcrematory.com
DTSTAMP:20260420T103012Z
DTSTART:20260423T160000Z
DTEND:20260423T173000Z
SUMMARY:Public Viewing
DESCRIPTION:
URL:https://www.mcgoniglefuneralhomeandcrematory.com/obituaries/john-hindman
LOCATION:St. Anthony Church 804 Idaho Street  Sharon PA 16146
GEO:41.2164445;-80.4941847
END:VEVENT
END:VCALENDAR