BEGIN:VCALENDAR
VERSION:2.0
PRODID:-//Tukios.com/
BEGIN:VEVENT
UID:b23c846e-e111-4889-8829-c6106816459c@www.mcgoniglefuneralhomeandcrematory.com
DTSTAMP:20260420T102356Z
DTSTART:20260423T180000Z
DTEND:20260423T190000Z
SUMMARY:Mass
DESCRIPTION:
URL:https://www.mcgoniglefuneralhomeandcrematory.com/obituaries/john-hindman
LOCATION:St. Anthony Church 804 Idaho Street  Sharon PA 16146
GEO:41.2164452;-80.4941912
END:VEVENT
END:VCALENDAR