BEGIN:VCALENDAR
VERSION:2.0
PRODID:-//Tukios.com/
BEGIN:VEVENT
UID:1344f014-01bf-40c8-bb49-fd8183ce3399@www.mcgoniglefuneralhomeandcrematory.com
DTSTAMP:20260422T211531Z
DTSTART:20260425T153000Z
DTEND:20260425T163000Z
SUMMARY:Mass
DESCRIPTION:
URL:https://www.mcgoniglefuneralhomeandcrematory.com/obituaries/florence-mills
LOCATION:Church of Notre Dame 2325 Highland Road  Hermitage PA 16148
GEO:41.239991;-80.4673487
END:VEVENT
END:VCALENDAR