BEGIN:VCALENDAR
VERSION:2.0
PRODID:-//Tukios.com/
BEGIN:VEVENT
UID:b983f3aa-457f-4ff3-81e9-66e8bfc81685@www.mcgoniglefuneralhomeandcrematory.com
DTSTAMP:20260422T211531Z
DTSTART:20260425T133000Z
DTEND:20260425T150000Z
SUMMARY:Visitation
DESCRIPTION:
URL:https://www.mcgoniglefuneralhomeandcrematory.com/obituaries/florence-mills
LOCATION: 1090 E State St  Sharon PA 16146
GEO:41.2328097;-80.4892811
END:VEVENT
END:VCALENDAR