BEGIN:VCALENDAR
VERSION:2.0
PRODID:-//Tukios.com/
BEGIN:VEVENT
UID:2fa4beef-2853-4a80-90c0-383f6357da88@www.mcgoniglefuneralhomeandcrematory.com
DTSTAMP:20260419T203149Z
DTSTART:20260427T160000Z
DTEND:20260427T170000Z
SUMMARY:Mass
DESCRIPTION:
URL:https://www.mcgoniglefuneralhomeandcrematory.com/obituaries/elizabeth-davis
LOCATION:St. Bartholomew Catholic Church 311 W Ridge Ave  Sharpsville PA 
	16150
GEO:41.2609887;-80.4786365
END:VEVENT
END:VCALENDAR