BEGIN:VCALENDAR
VERSION:2.0
PRODID:-//Tukios.com/
BEGIN:VEVENT
UID:b89c599f-5546-434f-85ed-d0955eb52d33@www.mcgoniglefuneralhomeandcrematory.com
DTSTAMP:20260419T202502Z
DTSTART:20260426T170000Z
DTEND:20260426T190000Z
SUMMARY:Visitation
DESCRIPTION:
URL:https://www.mcgoniglefuneralhomeandcrematory.com/obituaries/elizabeth-davis
LOCATION:J. Bradley McGonigle F. H. & Crematory, Inc. - Sharon 1090 East 
	State Street  Sharon PA 16146
GEO:41.2328097;-80.4892811
END:VEVENT
END:VCALENDAR